BEGIN:VCALENDAR
VERSION:2.0
PRODID:-//CERN//INDICO//EN
BEGIN:VEVENT
SUMMARY:2026 CUE and GALE SIG Conference
DTSTART:20261010T000000Z
DTEND:20261011T070000Z
DTSTAMP:20260424T101500Z
UID:indico-event-85@events.jalt.org
CONTACT:cue@jalt.org\;gale-president@jalt.org
DESCRIPTION:Speakers: Terry Tuttle (ISA)\, Parvathy Ramachandran (Kanazawa
  Institute of Technology)\, Frederick Bacala (JALT)\n\n\n2026 CUE and GALE
  SIG Conference\nEquipping Students for Tomorrow: Equity\, Identity\, and
  Agency in English Language Education\nThe theme of this conference is to 
 promote Equity\, Identity\, and Agency. \nEquity: Ensuring fair access\, 
 participation\, and support for all learners and educators.\nIdentity: Rec
 ognizing and valuing the diverse backgrounds\, roles\, and experiences tha
 t teachers or students bring.\nAgency: Fostering empowerment and enabling 
 learners and educators to make meaningful choices and shape their interact
 ions and contexts.\nPlease come and participate in our conference to promo
 te these 3 values!\nPlease submit your abstract after you have read the Ca
 ll for Presenters PDF below.  \n\nhttps://events.jalt.org/event/85/
LOCATION:Kanazawa Institute of Technology
URL:https://events.jalt.org/event/85/
END:VEVENT
END:VCALENDAR
